BEGIN:VCALENDAR
VERSION:2.0
PRODID:-//UNESCO-IESALC - ECPv5.2.0//NONSGML v1.0//EN
CALSCALE:GREGORIAN
METHOD:PUBLISH
X-WR-CALNAME:UNESCO-IESALC
X-ORIGINAL-URL:https://www.iesalc.unesco.org
X-WR-CALDESC:Eventos para UNESCO-IESALC
BEGIN:VTIMEZONE
TZID:America/Mexico_City
BEGIN:DAYLIGHT
TZOFFSETFROM:-0600
TZOFFSETTO:-0500
TZNAME:CDT
DTSTART:20210404T080000
END:DAYLIGHT
BEGIN:STANDARD
TZOFFSETFROM:-0500
TZOFFSETTO:-0600
TZNAME:CST
DTSTART:20211031T070000
END:STANDARD
END:VTIMEZONE
BEGIN:VEVENT
DTSTART;TZID=America/Mexico_City:20210423T100000
DTEND;TZID=America/Mexico_City:20210423T100000
DTSTAMP:20210515T155340
CREATED:20210419T174054Z
LAST-MODIFIED:20210422T142621Z
UID:8048-1619172000-1619172000@www.iesalc.unesco.org
SUMMARY:Simposio La sinergia de las humanidades\, el arte\, la ciencia y la tecnología en la universidad latinoamericana
DESCRIPTION:En el marco del III Congreso Mundial de Transdisciplinariedad se realizará el simposio “La sinergia de las humanidades\, el arte\, la ciencia y la tecnología en la universidad latinoamericana” el viernes 23 de abril a las 10 (hora de México). \nEl director del Instituto Internacional de la UNESCO para la Educación Superior en América Latina y el Caribe (IESALC)\, Francesc Pedró\, participará como ponente junto a Sandra Torlucci (Argentina)\, Freddy Álvarez (Ecuador) y Gustavo Oliveira (Brasil). Axel Didriksson (UNAM\, México) será el moderador del simposio. \nParticipe en el simposio a través del Canal de Youtube del III Congreso Mundial de Transdisciplinariedad. \nMás información sobre el evento aquí. \n\n  Suscribirse al boletín   
URL:https://www.iesalc.unesco.org/evento/simposio-la-sinergia-de-las-humanidades-el-arte-la-ciencia-y-la-tecnologia-en-la-universidad-latinoamericana/
ATTACH;FMTTYPE=image/jpeg:https://www.iesalc.unesco.org/wp-content/uploads/2021/04/Mexico-10am.jpg
END:VEVENT
END:VCALENDAR