BEGIN:VCALENDAR
VERSION:2.0
PRODID:-//UNESCO-IESALC - ECPv5.2.0//NONSGML v1.0//EN
CALSCALE:GREGORIAN
METHOD:PUBLISH
X-WR-CALNAME:UNESCO-IESALC
X-ORIGINAL-URL:https://www.iesalc.unesco.org
X-WR-CALDESC:Eventos para UNESCO-IESALC
BEGIN:VTIMEZONE
TZID:America/Argentina/Buenos_Aires
BEGIN:STANDARD
TZOFFSETFROM:-0300
TZOFFSETTO:-0300
TZNAME:-03
DTSTART:20210101T000000
END:STANDARD
END:VTIMEZONE
BEGIN:VEVENT
DTSTART;TZID=America/Argentina/Buenos_Aires:20210426T110000
DTEND;TZID=America/Argentina/Buenos_Aires:20210428T160000
DTSTAMP:20210515T155427
CREATED:20210409T141753Z
LAST-MODIFIED:20210409T142022Z
UID:7956-1619434800-1619625600@www.iesalc.unesco.org
SUMMARY:Foro CILAC 2021: rol de la ciencia ante la nueva normalidad generada por el COVID-19
DESCRIPTION:El Foro CILAC\, considerado como el hub regional de la ciencia\, la tecnología y la innovación\, es una plataforma para debatir sobre políticas eficaces con la meta de alcanzar los Objetivos de Desarrollo Sostenible de la Agenda 2030. Se trata de un evento único en su tipo\, con más de 3.000 participantes desde su primera edición. \nLa edición 2021 será una oportunidad para debatir\, planificar y monitorear el rol de la ciencia ante la nueva normalidad generada por el COVID-19\, en el contexto de los desafíos éticos de la inteligencia artificial\, las oportunidades de la economía digital\, el derecho a la ciencia y el cambio climático. \n#cilac2021 se desarrollará de forma virtual\, con actividades presenciales desde la Ciudad Autónoma de Buenos Aires\, Argentina. \nAgenda del Foro CILAC 2021. \n\n  Suscribirse al boletín   
URL:https://www.iesalc.unesco.org/evento/foro-cilac-2021-rol-de-la-ciencia-ante-la-nueva-normalidad-generada-por-el-covid-19/
ATTACH;FMTTYPE=image/png:https://www.iesalc.unesco.org/wp-content/uploads/2021/04/cilac.png
END:VEVENT
END:VCALENDAR