BEGIN:VCALENDAR
VERSION:2.0
PRODID:-//UNESCO-IESALC - ECPv5.2.0//NONSGML v1.0//EN
CALSCALE:GREGORIAN
METHOD:PUBLISH
X-WR-CALNAME:UNESCO-IESALC
X-ORIGINAL-URL:https://www.iesalc.unesco.org
X-WR-CALDESC:Eventos para UNESCO-IESALC
BEGIN:VTIMEZONE
TZID:America/Montevideo
BEGIN:STANDARD
TZOFFSETFROM:-0300
TZOFFSETTO:-0300
TZNAME:-03
DTSTART:20210101T000000
END:STANDARD
END:VTIMEZONE
BEGIN:VEVENT
DTSTART;TZID=America/Montevideo:20210830T080000
DTEND;TZID=America/Montevideo:20210830T170000
DTSTAMP:20210515T155558
CREATED:20210324T050512Z
LAST-MODIFIED:20210324T050836Z
UID:7707-1630310400-1630342800@www.iesalc.unesco.org
SUMMARY:Conferencia TICAL y Encuentro Latinoamericano de e-Ciencia discutirán sobre las tecnologías digitales
DESCRIPTION:La Conferencia TICAL y el Encuentro Latinoamericano de e-Ciencia\, que se llevarán a cabo del 30 de agosto al 2 de septiembre de 2021\, discutirán el tema “Repensando la Universidad impulsada por las tecnologías digitales”. La TICAL busca trabajos que presenten la implementación de soluciones y estrategias en Tecnologías de la Información y las Comunicaciones (TIC) que apoyen o aporten al ejercicio de repensar las aplicaciones tecnológicas en las Instituciones de Educación Superior. En tanto\, el Encuentro de e-Ciencia  escogerá experiencias que muestren el desarrollo de iniciativas colaborativas que involucren el uso de las TIC en distintas áreas de la Ciencia: Astronomía\, Física de Altas Energías\, Medio Ambiente\, Biodiversidad\, Humanidades\, Arte\, Ciencias de la Vida\, e-Salud\, Ciencias de la Computación\, Informática/Sistemas de Información\, Economía\, Ciencias de la Administración. \nAmbos eventos invitan a los directores TIC\, académicos e investigadores de universidades latinoamericanas a concursar trabajos que expresen el desarrollo y los resultados de iniciativas que aporten a la temática escogida para esta edición de los eventos hasta el 20 de abril de 2021. \nLos eventos contarán con la participación del director del Instituto Internacional de la UNESCO para la Educación Superior en América Latina y el Caribe (IESALC)\, Francesc Pedró. Para ver su biografía entre aquí. \nPara más detalles consultar la página de la Red Clara.  \n\n  Suscribirse al boletín   
URL:https://www.iesalc.unesco.org/evento/conferencia-tical-y-encuentro-latinoamericano-de-e-ciencia-discutiran-sobre-las-tecnologias-digitales/
ATTACH;FMTTYPE=image/png:https://www.iesalc.unesco.org/wp-content/uploads/2021/03/Ewm_sHiWQAspjCU.png
END:VEVENT
END:VCALENDAR